BEGIN:VCALENDAR
VERSION:2.0
PRODID:-//Salazar Colleges of Science and Institute of Technology - ECPv6.15.17.1//NONSGML v1.0//EN
CALSCALE:GREGORIAN
METHOD:PUBLISH
X-ORIGINAL-URL:https://www.scsit.edu.ph
X-WR-CALDESC:Events for Salazar Colleges of Science and Institute of Technology
REFRESH-INTERVAL;VALUE=DURATION:PT1H
X-Robots-Tag:noindex
X-PUBLISHED-TTL:PT1H
BEGIN:VTIMEZONE
TZID:Asia/Shanghai
BEGIN:STANDARD
TZOFFSETFROM:+0800
TZOFFSETTO:+0800
TZNAME:CST
DTSTART:20230101T000000
END:STANDARD
END:VTIMEZONE
BEGIN:VEVENT
DTSTART;VALUE=DATE:20240203
DTEND;VALUE=DATE:20240204
DTSTAMP:20260422T165057
CREATED:20240112T221935Z
LAST-MODIFIED:20240112T221935Z
UID:10000009-1706918400-1707004799@www.scsit.edu.ph
SUMMARY:Enrollment Ends
DESCRIPTION:
URL:https://www.scsit.edu.ph/event/enrollment-ends
END:VEVENT
BEGIN:VEVENT
DTSTART;VALUE=DATE:20240131
DTEND;VALUE=DATE:20240201
DTSTAMP:20260422T165057
CREATED:20240112T230120Z
LAST-MODIFIED:20240112T230120Z
UID:10000031-1706659200-1706745599@www.scsit.edu.ph
SUMMARY:Card Day for the 2nd Grading - Cebu Campus
DESCRIPTION:
URL:https://www.scsit.edu.ph/event/card-day-for-the-2nd-grading-cebu-campus
END:VEVENT
BEGIN:VEVENT
DTSTART;VALUE=DATE:20240130
DTEND;VALUE=DATE:20240205
DTSTAMP:20260422T165057
CREATED:20240112T221913Z
LAST-MODIFIED:20240112T221913Z
UID:10000008-1706572800-1707091199@www.scsit.edu.ph
SUMMARY:Founders' Week
DESCRIPTION:
URL:https://www.scsit.edu.ph/event/founders-week
END:VEVENT
BEGIN:VEVENT
DTSTART;VALUE=DATE:20240121
DTEND;VALUE=DATE:20240122
DTSTAMP:20260422T165057
CREATED:20240112T221809Z
LAST-MODIFIED:20240112T221809Z
UID:10000007-1705795200-1705881599@www.scsit.edu.ph
SUMMARY:Feast of St. Nino
DESCRIPTION:
URL:https://www.scsit.edu.ph/event/feast-of-st-nino
END:VEVENT
BEGIN:VEVENT
DTSTART;VALUE=DATE:20240118
DTEND;VALUE=DATE:20240120
DTSTAMP:20260422T165057
CREATED:20240112T230058Z
LAST-MODIFIED:20240112T230058Z
UID:10000030-1705536000-1705708799@www.scsit.edu.ph
SUMMARY:3rd Monthly Exam - Cebu Campus
DESCRIPTION:
URL:https://www.scsit.edu.ph/event/3rd-monthly-exam-cebu-campus
END:VEVENT
BEGIN:VEVENT
DTSTART;VALUE=DATE:20240115
DTEND;VALUE=DATE:20240116
DTSTAMP:20260422T165058
CREATED:20240112T221737Z
LAST-MODIFIED:20240112T222251Z
UID:10000006-1705276800-1705363199@www.scsit.edu.ph
SUMMARY:Classes Start - SCSIT College
DESCRIPTION:
URL:https://www.scsit.edu.ph/event/classes-start
END:VEVENT
BEGIN:VEVENT
DTSTART;VALUE=DATE:20240103
DTEND;VALUE=DATE:20240104
DTSTAMP:20260422T165058
CREATED:20240112T230029Z
LAST-MODIFIED:20240112T230029Z
UID:10000029-1704240000-1704326399@www.scsit.edu.ph
SUMMARY:Resumption of Classes - Cebu Campus
DESCRIPTION:
URL:https://www.scsit.edu.ph/event/resumption-of-classes-cebu-campus
END:VEVENT
BEGIN:VEVENT
DTSTART;VALUE=DATE:20240102
DTEND;VALUE=DATE:20240103
DTSTAMP:20260422T165058
CREATED:20240112T221701Z
LAST-MODIFIED:20240112T221701Z
UID:10000005-1704153600-1704239999@www.scsit.edu.ph
SUMMARY:Enrollment Starts
DESCRIPTION:
URL:https://www.scsit.edu.ph/event/enrollment-starts
END:VEVENT
BEGIN:VEVENT
DTSTART;VALUE=DATE:20240101
DTEND;VALUE=DATE:20240102
DTSTAMP:20260422T165058
CREATED:20240112T221619Z
LAST-MODIFIED:20240112T221619Z
UID:10000004-1704067200-1704153599@www.scsit.edu.ph
SUMMARY:New Year's Day
DESCRIPTION:
URL:https://www.scsit.edu.ph/event/new-years-day
END:VEVENT
END:VCALENDAR